BEGIN:VCALENDAR
VERSION:2.0
PRODID:-//Medilink Midlands - ECPv6.15.20//NONSGML v1.0//EN
CALSCALE:GREGORIAN
METHOD:PUBLISH
X-ORIGINAL-URL:https://www.medilinkmidlands.com
X-WR-CALDESC:Events for Medilink Midlands
REFRESH-INTERVAL;VALUE=DURATION:PT1H
X-Robots-Tag:noindex
X-PUBLISHED-TTL:PT1H
BEGIN:VTIMEZONE
TZID:Europe/London
BEGIN:DAYLIGHT
TZOFFSETFROM:+0000
TZOFFSETTO:+0100
TZNAME:BST
DTSTART:20220327T010000
END:DAYLIGHT
BEGIN:STANDARD
TZOFFSETFROM:+0100
TZOFFSETTO:+0000
TZNAME:GMT
DTSTART:20221030T010000
END:STANDARD
BEGIN:DAYLIGHT
TZOFFSETFROM:+0000
TZOFFSETTO:+0100
TZNAME:BST
DTSTART:20230326T010000
END:DAYLIGHT
BEGIN:STANDARD
TZOFFSETFROM:+0100
TZOFFSETTO:+0000
TZNAME:GMT
DTSTART:20231029T010000
END:STANDARD
BEGIN:DAYLIGHT
TZOFFSETFROM:+0000
TZOFFSETTO:+0100
TZNAME:BST
DTSTART:20240331T010000
END:DAYLIGHT
BEGIN:STANDARD
TZOFFSETFROM:+0100
TZOFFSETTO:+0000
TZNAME:GMT
DTSTART:20241027T010000
END:STANDARD
END:VTIMEZONE
BEGIN:VEVENT
DTSTART;TZID=Europe/London:20230524T091500
DTEND;TZID=Europe/London:20230524T120000
DTSTAMP:20260423T085329
CREATED:20230502T103055Z
LAST-MODIFIED:20230630T075246Z
UID:23284-1684919700-1684929600@www.medilinkmidlands.com
SUMMARY:IN-PERSON EVENT: Launch of the MeTAP Business Support Programme
DESCRIPTION:  \n \nJoin Medilink Midlands on Wednesday 24th May to find out how the MeTAP* business support programme can help you and your business. \nIf you are a company already in\, or transitioning into the life science and medtech sector\, this programme offers high-quality business and innovation support. \nWorking in partnership with the University of Nottingham\, the aim of MeTAP is to support companies to accelerate innovation and provide the right skills and tools to enable companies to increase their competitive advantage. \nAgenda to include: \n\nDr Caroline Sykes\, Innovation Adviser\, Medilink Midlands – Launch of MeTAP and how it can support you.\nDeanne Hewson\, Senior Healthcare Technologies Industry Manager\, Centre for Healthcare Technologies\, University of Nottingham – Overview of the University of Nottingham facilities\, and examples of its expertise and resources available to innovators.\nDr Sarah Bolton\, CHEATA Business Manager \, Centre for Healthcare Equipment and Technology Adoption (CHEATA) – What CHEATA can offer.\nPlus\, hear from companies currently working within the University of Nottingham and how this partnership is benefiting their business.\n\nWhat can I access through MeTAP? \n\nAccess to high-value life science sector specific expertise including IP\, regulatory\, clinical adoption and innovation test beds\nCross-sectoral knowledge e.g. manufacturing\, digital\, virtual test environments\nGrant funding\nSignposting and sectoral networking opportunities\nInnovation Accelerator Programme (IAP)\n\n*open to Life Science & MedTech organisations in Nottingham City\, however the event is open to all. \n  \nThis programme is funded by the UK Government through the UK Shared Prosperity Fund
URL:https://www.medilinkmidlands.com/event/metap-nottingham-funding/
LOCATION:Winter Garden Room\, GSK Building\, Jubilee Campus\, University of Nottingham\, Wollaton Rd\, Nottingham\, NG8 1BB\, United Kingdom
CATEGORIES:Medilink Midlands Event
ORGANIZER;CN="Medilink Midlands":MAILTO:zoeh@medilinkwm.co.uk
END:VEVENT
END:VCALENDAR