BEGIN:VCALENDAR
VERSION:2.0
PRODID:-//Medilink Midlands - ECPv6.15.20//NONSGML v1.0//EN
CALSCALE:GREGORIAN
METHOD:PUBLISH
X-WR-CALNAME:Medilink Midlands
X-ORIGINAL-URL:https://www.medilinkmidlands.com
X-WR-CALDESC:Events for Medilink Midlands
REFRESH-INTERVAL;VALUE=DURATION:PT1H
X-Robots-Tag:noindex
X-PUBLISHED-TTL:PT1H
BEGIN:VTIMEZONE
TZID:Europe/London
BEGIN:DAYLIGHT
TZOFFSETFROM:+0000
TZOFFSETTO:+0100
TZNAME:BST
DTSTART:20250330T010000
END:DAYLIGHT
BEGIN:STANDARD
TZOFFSETFROM:+0100
TZOFFSETTO:+0000
TZNAME:GMT
DTSTART:20251026T010000
END:STANDARD
BEGIN:DAYLIGHT
TZOFFSETFROM:+0000
TZOFFSETTO:+0100
TZNAME:BST
DTSTART:20260329T010000
END:DAYLIGHT
BEGIN:STANDARD
TZOFFSETFROM:+0100
TZOFFSETTO:+0000
TZNAME:GMT
DTSTART:20261025T010000
END:STANDARD
BEGIN:DAYLIGHT
TZOFFSETFROM:+0000
TZOFFSETTO:+0100
TZNAME:BST
DTSTART:20270328T010000
END:DAYLIGHT
BEGIN:STANDARD
TZOFFSETFROM:+0100
TZOFFSETTO:+0000
TZNAME:GMT
DTSTART:20271031T010000
END:STANDARD
END:VTIMEZONE
BEGIN:VEVENT
DTSTART;TZID=Europe/London:20260422T130000
DTEND;TZID=Europe/London:20260422T160000
DTSTAMP:20260422T230613
CREATED:20260320T114331Z
LAST-MODIFIED:20260320T114331Z
UID:42355-1776862800-1776873600@www.medilinkmidlands.com
SUMMARY:Biofilm Breakthroughs: Partnering for next-generation biofilm control
DESCRIPTION:Date: Wednesday 22 April 2026\n\nTime: 1pm to 4pm\n\nLocation: Rooms A208 and A209\, The National Biofilms Innovation Centre’s Nottingham Hub\, Biodiscovery Institute\, University Park Campus\, Nottingham\, NG7 2RD\n\n\n \nAbout this event\nHosted by the National Biofilms Innovation Centre (NBIC) in partnership with the University of Nottingham Centre for Healthcare Technologies (CHT)\, this interactive half-day workshop is designed to help HealthTech industry innovators collaborate with leading researchers to tackle device contamination and infection-risk challenges. \nBiofilms remain a persistent and costly issue in medical technologies\, affecting device reliability\, patient safety\, regulatory pathways and product performance. As a core NBIC partner\, the University of Nottingham brings together world-leading expertise and a suite of innovations highly relevant to the HealthTech sector\, spanning biosensing\, surface engineering\, advanced imaging and translational diagnostics. \nThis event provides an opportunity to explore cutting-edge solutions\, develop collaborative ideas and accelerate innovation from concept to real-world application. By taking part\, you could help shape impactful new approaches and potentially secure funding through the NBIC Innovation Challenge Fund*. Participants can also apply for a share of up to £10\,000 for eligible projects via UKRI’s Impact Accelerator Accounts (IAA)*\, facilitated by the University of Nottingham IP Commercialisation Team to support and formalise industry–academia collaborations. \n*Eligibility\, terms and conditions apply. \nWho should attend? \nThis event is ideal for established SMEs and larger companies operating in the HealthTech\, MedTech and medical device sectors that have the capacity\, resource and strategic intent to partner on collaborative R&D projects with the University of Nottingham or the National Biofilms Innovation Centre. \nWhy attend? \n\nConnect with experts in biofilm detection\, diagnostics\, surface engineering and infection-risk mitigation\nExplore collaborative project ideas with multidisciplinary research teams\nGain insights to support the development of safer\, more reliable HealthTech products\nApply for funding to initiate early-stage industry–academia partnership activities\n\nJoin us to discover how strategic collaboration can unlock new approaches to managing biofilms in next-generation medical technologies. \nSpeakers \nOur programme is designed to encourage interaction\, idea-sharing and collaboration: \n\nFlash talks: Hear from researchers and industry leaders as they present their latest work in short\, engaging talks.\nFunding advice: Gain practical guidance on available funding opportunities\, including how to identify the right scheme\, strengthen your application\, and build competitive\, collaborative proposals.\nSpeed and free networking: Continue the conversation in an informal setting designed to encourage open discussion and idea sharing.\n\nBook your place\nPlaces are limited at this event to ensure meaningful discussion and productive networking. They will be allocated on a first-come\, first-served basis. Early booking is strongly recommended to avoid disappointment. \nTo reserve your place at this event\, please complete a short online booking form. \nBy registering for this event\, you agree that the University of Nottingham may share your personal details with the National Biofilms Innovation Centre (NBIC). NBIC event data is administered and processed by the University of Southampton. Data collection is carried out in line with relevant data protection laws and the University of Southampton Data Protection Policy.
URL:https://www.medilinkmidlands.com/event/biofilm-breakthroughs-partnering-for-next-generation-biofilm-control/
LOCATION:The National Biofilms Innovation Centre’s Nottingham Hub\, Biodiscovery Institute\, University Park Campus\, Nottingham\, NG7 2RD\, United Kingdom
END:VEVENT
BEGIN:VEVENT
DTSTART;TZID=Europe/London:20260422T130000
DTEND;TZID=Europe/London:20260422T160000
DTSTAMP:20260422T230613
CREATED:20260327T141136Z
LAST-MODIFIED:20260330T131226Z
UID:42477-1776862800-1776873600@www.medilinkmidlands.com
SUMMARY:Online: TBAT Innovation Challenge - Workshop 2
DESCRIPTION:The 2026 Innovation Challenge is powered by TBAT Innovation & The Dains Group\, in partnership with Headline Sponsor Shakespeare Martineau and Platinum Sponsor Barclays Eagle Labs. \nThis online workshop\, is sponsored by Forresters IP.  Now that your idea has legs\, the second IC26 workshop focuses on turning it into reality. Explore routes for early product development\, the fundamentals of securing intellectual property\, and how to bring in initial funding. Learn what to consider when taking on your first staff and how to structure shares and equity so your business is built for long-term stability. Ideal for innovators ready to move from planning to building. \nThe event will feature short presentations\, Q&A sessions and include a comfort break. \nTake a look at our workshop speakers and the topics they will be covering: \n– The Mini Investment Readiness (IRP): What it covers and how it prepares you for investment. Daniel Gaize\, Future Planet Capital \n– Understanding the British Business Bank: Equity\, Debt and How to Get Ready. Lewis Stringer\, British Business Bank \n– Advanced Funding for R&D Tax Credits and Grant Funding: How it works and when to use it. Dom Peasley\, Sprk Capital \n– Intellectual Property for Start-Ups: Jagvir Purewal & Greg Smith\, Forresters IP \n– Founder Case Study -Harry Brooksbank\, Nafura Advanced Technologies \n-Employing Your First People – Contracts\, Rights and Legal Responsibilities: Rhys Wyborn\, Shakespeare Martineau \n– HR Foundations for Growing businesses: Kay Mellor\, Isosceles Finance \n– Introduction to Grant Funding: Esther Lawrence\, TBAT Innovation \n– R&D Tax Credits Explained: Yasmin Dalton\, TBAT Innovation \n– SEIS and EIS : How Early-stage Investment Incentives Work: Sam Stephens\, TBAT Innovation \nThis workshop is part of a series of five interactive events designed to support SMEs through the highs and lows of innovation\, growth\, and success. All workshops are free to attend and open to the public\, with no requirement to apply for the Innovation Challenge. \nLink to register: https://register.gotowebinar.com/#register/4250699210579687768
URL:https://www.medilinkmidlands.com/event/tbat-innovation-challenge-workshop-2/
LOCATION:Online
CATEGORIES:Medilink Partner Event
END:VEVENT
END:VCALENDAR