BEGIN:VCALENDAR
VERSION:2.0
PRODID:-//Medilink Midlands - ECPv6.15.20//NONSGML v1.0//EN
CALSCALE:GREGORIAN
METHOD:PUBLISH
X-WR-CALNAME:Medilink Midlands
X-ORIGINAL-URL:https://www.medilinkmidlands.com
X-WR-CALDESC:Events for Medilink Midlands
REFRESH-INTERVAL;VALUE=DURATION:PT1H
X-Robots-Tag:noindex
X-PUBLISHED-TTL:PT1H
BEGIN:VTIMEZONE
TZID:Europe/London
BEGIN:DAYLIGHT
TZOFFSETFROM:+0000
TZOFFSETTO:+0100
TZNAME:BST
DTSTART:20250330T010000
END:DAYLIGHT
BEGIN:STANDARD
TZOFFSETFROM:+0100
TZOFFSETTO:+0000
TZNAME:GMT
DTSTART:20251026T010000
END:STANDARD
BEGIN:DAYLIGHT
TZOFFSETFROM:+0000
TZOFFSETTO:+0100
TZNAME:BST
DTSTART:20260329T010000
END:DAYLIGHT
BEGIN:STANDARD
TZOFFSETFROM:+0100
TZOFFSETTO:+0000
TZNAME:GMT
DTSTART:20261025T010000
END:STANDARD
BEGIN:DAYLIGHT
TZOFFSETFROM:+0000
TZOFFSETTO:+0100
TZNAME:BST
DTSTART:20270328T010000
END:DAYLIGHT
BEGIN:STANDARD
TZOFFSETFROM:+0100
TZOFFSETTO:+0000
TZNAME:GMT
DTSTART:20271031T010000
END:STANDARD
END:VTIMEZONE
BEGIN:VEVENT
DTSTART;VALUE=DATE:20260420
DTEND;VALUE=DATE:20260422
DTSTAMP:20260421T105941
CREATED:20260224T131530Z
LAST-MODIFIED:20260224T152446Z
UID:41988-1776643200-1776815999@www.medilinkmidlands.com
SUMMARY:RCS England Future of Surgery Festival
DESCRIPTION:Join over 1\,000 surgical professionals in Birmingham\, 20–21 April 2026\, for two days of connection\, inspiration and innovation. The Festival brings together every surgical specialty and career grade to connect\, share and shape what’s next for the profession. Explore sessions on innovation\, workforce and training\, diversity\, equity and inclusion\, global surgery\, wellbeing and more. Blending practical advice and cutting-edge innovation with ample networking opportunities\, this is more than an event. It’s a celebration. \nCLICK FOR MORE INFORMATION
URL:https://www.medilinkmidlands.com/event/future-of-surgery-festival/
LOCATION:ICC Birmingham\, 8 Centenary Square\, Birmingham\, West Midlands\, B1 2EA\, United Kingdom
CATEGORIES:Other Event
ORGANIZER;CN="Royal College of Surgeons of Engalnd":MAILTO:rcsengevents.marketing@wonderly.agency
END:VEVENT
END:VCALENDAR