BEGIN:VCALENDAR
VERSION:2.0
PRODID:-//Medilink Midlands - ECPv6.15.20//NONSGML v1.0//EN
CALSCALE:GREGORIAN
METHOD:PUBLISH
X-WR-CALNAME:Medilink Midlands
X-ORIGINAL-URL:https://www.medilinkmidlands.com
X-WR-CALDESC:Events for Medilink Midlands
REFRESH-INTERVAL;VALUE=DURATION:PT1H
X-Robots-Tag:noindex
X-PUBLISHED-TTL:PT1H
BEGIN:VTIMEZONE
TZID:Europe/London
BEGIN:DAYLIGHT
TZOFFSETFROM:+0000
TZOFFSETTO:+0100
TZNAME:BST
DTSTART:20250330T010000
END:DAYLIGHT
BEGIN:STANDARD
TZOFFSETFROM:+0100
TZOFFSETTO:+0000
TZNAME:GMT
DTSTART:20251026T010000
END:STANDARD
BEGIN:DAYLIGHT
TZOFFSETFROM:+0000
TZOFFSETTO:+0100
TZNAME:BST
DTSTART:20260329T010000
END:DAYLIGHT
BEGIN:STANDARD
TZOFFSETFROM:+0100
TZOFFSETTO:+0000
TZNAME:GMT
DTSTART:20261025T010000
END:STANDARD
BEGIN:DAYLIGHT
TZOFFSETFROM:+0000
TZOFFSETTO:+0100
TZNAME:BST
DTSTART:20270328T010000
END:DAYLIGHT
BEGIN:STANDARD
TZOFFSETFROM:+0100
TZOFFSETTO:+0000
TZNAME:GMT
DTSTART:20271031T010000
END:STANDARD
END:VTIMEZONE
BEGIN:VEVENT
DTSTART;TZID=Europe/London:20260324T090000
DTEND;TZID=Europe/London:20260324T120000
DTSTAMP:20260421T140507
CREATED:20260306T122550Z
LAST-MODIFIED:20260318T091231Z
UID:42144-1774342800-1774353600@www.medilinkmidlands.com
SUMMARY:IN-PERSON: WMHTC - HR Action Learning Workshop
DESCRIPTION:This activity aims to provide a focused\, structured forum within a single workshop to explore shared workforce challenges across the NHS and life sciences sector\, including: \n\nRecruitment and retention of scarce and specialist talent\nSkills gaps across clinical\, scientific\, digital and leadership roles\nPipeline issues (education\, apprenticeships\, early careers)\nWorkforce resilience\, wellbeing and productivity pressures\n\nParticipants will use the session to surface what is driving these challenges\, share what has and hasn’t worked\, and identify where collective insight or action could add value\, even beyond the workshop itself. \nThe workshop is also intended to help foster collaboration and support improved delivery. \n  \nWho should attend? \n\nHR Directors\, Chief People Officers\, Heads of Talent / Workforce\nSenior operational or executive leaders with workforce accountability\n\nDrawn from: \n\nLarge life science and health technology firms\nNHS Trusts and system‑level organisations\n\nIf you meet the above criteria\, and would like to attend this event\, please email: events@wmhtc.co.uk. \n*Please note: Places are limited. \n  \n \nWorkshop Facilitator – Helen Dinsdale \nHR Transformation Leader | Facilitator | People & Culture Specialist \nWith over 20 years of experience across all areas of HR\, Helen is a skilled facilitator and leader of people-focused transformation. She specialises in guiding organisations through change\, creating clarity\, and bringing people along to deliver meaningful\, lasting outcomes. \nKnown for her pragmatic and outcome-driven approach\, Helen excels at simplifying complex HR and business challenges\, enabling teams to move forward with confidence. Her ability to build trusted relationships and foster a supportive\, non-threatening environment helps individuals and organisations navigate change effectively. As part of an outsourced HR team\, Helen works as a true extension of her clients’ businesses—offering hands-on\, flexible support that goes beyond advice to deliver real results. \n  \nTo find out more on the WMHTC click here.
URL:https://www.medilinkmidlands.com/event/in-person-wmhtc-hr-action-learning-workshop/
LOCATION:STEAMHouse Birmingham\, Belmont Row\, Birmingham\, B4 7RQ\, United Kingdom
CATEGORIES:Medilink Midlands Event,WMHTC North Star
ORGANIZER;CN="Linsey Horsepool Medilink Midlands":MAILTO:events@medilinkmidlands.com
END:VEVENT
END:VCALENDAR